BEGIN:VCALENDAR
VERSION:2.0
PRODID:VTCPA Courses
BEGIN:VEVENT
UID:course_id_77902IMP
DTSTAMP:20260420T004256Z
DTSTART:20260819T140000Z
DTEND:20260819T160000Z
SUMMARY:Surgent's Excel Lookups: Moving Beyond VLOOKUP Limitations
LOCATION:Webinar
DESCRIPTION:Computer Science
END:VEVENT
END:VCALENDAR