BEGIN:VCALENDAR
VERSION:2.0
PRODID:VTCPA Courses
BEGIN:VEVENT
UID:course_id_77924IMP
DTSTAMP:20260420T035434Z
DTSTART:20260812T140000Z
DTEND:20260812T160000Z
SUMMARY:Surgent's Use the Data Model to Build More Powerful PivotTables
LOCATION:Webinar
DESCRIPTION:Computer Science
END:VEVENT
END:VCALENDAR