BEGIN:VCALENDAR
VERSION:2.0
PRODID:VTCPA Courses
BEGIN:VEVENT
UID:course_id_77934IMP
DTSTAMP:20260419T224446Z
DTSTART:20260820T170000Z
DTEND:20260820T190000Z
SUMMARY:Surgent's Excel: Mastering PivotTables
LOCATION:Webinar
DESCRIPTION:Computer Science
END:VEVENT
END:VCALENDAR