BEGIN:VCALENDAR
VERSION:2.0
PRODID:VTCPA Courses
BEGIN:VEVENT
UID:course_id_77943IMP
DTSTAMP:20260420T020820Z
DTSTART:20260818T170000Z
DTEND:20260818T190000Z
SUMMARY:Surgent's Excel Shortcuts for Accountants
LOCATION:Webinar
DESCRIPTION:Computer Science
END:VEVENT
END:VCALENDAR