BEGIN:VCALENDAR
VERSION:2.0
PRODID:VTCPA Courses
BEGIN:VEVENT
UID:course_id_77982IMP
DTSTAMP:20260420T122951Z
DTSTART:20260730T130000Z
DTEND:20260730T163000Z
SUMMARY:Surgent's Government and Nonprofit Frauds and Controls to Stop Them
LOCATION:Webinar
DESCRIPTION:Auditing (Governmental)
END:VEVENT
END:VCALENDAR