BEGIN:VCALENDAR
VERSION:2.0
PRODID:VTCPA Courses
BEGIN:VEVENT
UID:course_id_77998IMP
DTSTAMP:20260420T153901Z
DTSTART:20260727T190000Z
DTEND:20260727T210000Z
SUMMARY:Surgent's A Complete Guide to Reporting Form 1099-DA
LOCATION:Webinar
DESCRIPTION:Taxes
END:VEVENT
END:VCALENDAR