BEGIN:VCALENDAR
VERSION:2.0
PRODID:VTCPA Courses
BEGIN:VEVENT
UID:course_id_78012IMP
DTSTAMP:20260420T171324Z
DTSTART:20260723T130000Z
DTEND:20260723T210000Z
SUMMARY:Surgent's Perplexing Financial and Economic Issues for the CFO/Controller
LOCATION:Webinar
DESCRIPTION:Accounting
END:VEVENT
END:VCALENDAR