BEGIN:VCALENDAR
VERSION:2.0
PRODID:VTCPA Courses
BEGIN:VEVENT
UID:course_id_78013IMP
DTSTAMP:20260419T210316Z
DTSTART:20260824T153000Z
DTEND:20260824T233000Z
SUMMARY:Surgent's Perplexing Financial and Economic Issues for the CFO/Controller
LOCATION:Webinar
DESCRIPTION:Accounting
END:VEVENT
END:VCALENDAR