BEGIN:VCALENDAR
VERSION:2.0
PRODID:VTCPA Courses
BEGIN:VEVENT
UID:course_id_78020IMP
DTSTAMP:20260420T091652Z
DTSTART:20260806T130000Z
DTEND:20260806T210000Z
SUMMARY:Surgent's Predicting Future Financial Issues Facing the Financial         Executive
LOCATION:Webinar
DESCRIPTION:Accounting, Business Management
END:VEVENT
END:VCALENDAR