BEGIN:VCALENDAR
VERSION:2.0
PRODID:VTCPA Courses
BEGIN:VEVENT
UID:course_id_78030IMP
DTSTAMP:20260420T171053Z
DTSTART:20260723T140000Z
DTEND:20260723T160000Z
SUMMARY:Surgent's Communicating Financial Results to Stakeholders: A Guide for    Client Advisory Services
LOCATION:Webinar
DESCRIPTION:Communications
END:VEVENT
END:VCALENDAR