BEGIN:VCALENDAR
VERSION:2.0
PRODID:VTCPA Courses
BEGIN:VEVENT
UID:course_id_78031IMP
DTSTAMP:20260419T224409Z
DTSTART:20260820T140000Z
DTEND:20260820T160000Z
SUMMARY:Surgent's Communicating Financial Results to Stakeholders: A Guide for    Client Advisory Services
LOCATION:Webinar
DESCRIPTION:Communications
END:VEVENT
END:VCALENDAR