BEGIN:VCALENDAR
VERSION:2.0
PRODID:VTCPA Courses
BEGIN:VEVENT
UID:course_id_78063IMP
DTSTAMP:20260420T122124Z
DTSTART:20260803T170000Z
DTEND:20260803T203000Z
SUMMARY:Surgent's Four Tiers of Loss Limitations: A Guide to the Rules for        Pass-Through Entities
LOCATION:Webinar
DESCRIPTION:Taxes
END:VEVENT
END:VCALENDAR