BEGIN:VCALENDAR
VERSION:2.0
PRODID:VTCPA Courses
BEGIN:VEVENT
UID:course_id_78120IMP
DTSTAMP:20260420T135832Z
DTSTART:20260729T130000Z
DTEND:20260729T210000Z
SUMMARY:Surgent's Latest Developments in Government and Nonprofit Accounting and  Auditing
LOCATION:Webinar
DESCRIPTION:Auditing (Governmental), Accounting (Governmental)
END:VEVENT
END:VCALENDAR