BEGIN:VCALENDAR
VERSION:2.0
PRODID:VTCPA Courses
BEGIN:VEVENT
UID:course_id_78131IMP
DTSTAMP:20260420T171411Z
DTSTART:20260722T140000Z
DTEND:20260722T160000Z
SUMMARY:Surgent's Governing Agentic AI: Cybersecurity, Data, and Risk
LOCATION:Webinar
DESCRIPTION:Technology
END:VEVENT
END:VCALENDAR