BEGIN:VCALENDAR
VERSION:2.0
PRODID:VTCPA Courses
BEGIN:VEVENT
UID:course_id_78132IMP
DTSTAMP:20260420T003940Z
DTSTART:20260819T180000Z
DTEND:20260819T200000Z
SUMMARY:Surgent's Governing Agentic AI: Cybersecurity, Data, and Risk
LOCATION:Webinar
DESCRIPTION:Technology
END:VEVENT
END:VCALENDAR