BEGIN:VCALENDAR
VERSION:2.0
PRODID:VTCPA Courses
BEGIN:VEVENT
UID:course_id_78140IMP
DTSTAMP:20260421T081248Z
DTSTART:20260721T173000Z
DTEND:20260721T210000Z
SUMMARY:Surgent's Guide to Payroll Taxes and 1099 Issues
LOCATION:Webinar
DESCRIPTION:Taxes
END:VEVENT
END:VCALENDAR