BEGIN:VCALENDAR
VERSION:2.0
PRODID:VTCPA Courses
BEGIN:VEVENT
UID:course_id_78155IMP
DTSTAMP:20260420T073947Z
DTSTART:20260806T140000Z
DTEND:20260806T160000Z
SUMMARY:Surgent's The CMA's Guide to Project Management
LOCATION:Webinar
DESCRIPTION:Accounting, Business Management
END:VEVENT
END:VCALENDAR