BEGIN:VCALENDAR
VERSION:2.0
PRODID:VTCPA Courses
BEGIN:VEVENT
UID:course_id_78172IMP
DTSTAMP:20260420T122226Z
DTSTART:20260731T140000Z
DTEND:20260731T160000Z
SUMMARY:Surgent's Handling Difficult People
LOCATION:Webinar
DESCRIPTION:Personnel/HR
END:VEVENT
END:VCALENDAR