BEGIN:VCALENDAR
VERSION:2.0
PRODID:VTCPA Courses
BEGIN:VEVENT
UID:course_id_78178IMP
DTSTAMP:20260420T171333Z
DTSTART:20260722T140000Z
DTEND:20260722T160000Z
SUMMARY:Surgent's Hiring and Firing of Employees - What You Can and Cannot Do
LOCATION:Webinar
DESCRIPTION:Business Law
END:VEVENT
END:VCALENDAR