BEGIN:VCALENDAR
VERSION:2.0
PRODID:VTCPA Courses
BEGIN:VEVENT
UID:course_id_78184IMP
DTSTAMP:20260420T004606Z
DTSTART:20260819T130000Z
DTEND:20260819T210000Z
SUMMARY:Surgent's Handbook for Mastering Basis, Distributions, and Loss           Limitation Issues for S Corporations, LLCs, and Partnerships
LOCATION:Webinar
DESCRIPTION:Taxes
END:VEVENT
END:VCALENDAR