BEGIN:VCALENDAR
VERSION:2.0
PRODID:VTCPA Courses
BEGIN:VEVENT
UID:course_id_78270IMP
DTSTAMP:20260420T122221Z
DTSTART:20260731T140000Z
DTEND:20260731T160000Z
SUMMARY:Surgent's IT Systems and Data Management
LOCATION:Webinar
DESCRIPTION:Technology
END:VEVENT
END:VCALENDAR