BEGIN:VCALENDAR
VERSION:2.0
PRODID:VTCPA Courses
BEGIN:VEVENT
UID:course_id_78279IMP
DTSTAMP:20260420T122353Z
DTSTART:20260731T130000Z
DTEND:20260731T163000Z
SUMMARY:Surgent's Introduction to Forensic Accounting
LOCATION:Webinar
DESCRIPTION:Accounting
END:VEVENT
END:VCALENDAR