BEGIN:VCALENDAR
VERSION:2.0
PRODID:VTCPA Courses
BEGIN:VEVENT
UID:course_id_78322IMP
DTSTAMP:20260420T091601Z
DTSTART:20260806T130000Z
DTEND:20260806T150000Z
SUMMARY:Surgent's Improving Your Profits: Identifying Cost Cutting Opportunities
LOCATION:Webinar
DESCRIPTION:Management
END:VEVENT
END:VCALENDAR