BEGIN:VCALENDAR
VERSION:2.0
PRODID:VTCPA Courses
BEGIN:VEVENT
UID:course_id_78334IMP
DTSTAMP:20260420T035312Z
DTSTART:20260813T130000Z
DTEND:20260813T210000Z
SUMMARY:Surgent's Key Current Financial and Economic Issues Facing the Financial  Executive
LOCATION:Webinar
DESCRIPTION:Business Management
END:VEVENT
END:VCALENDAR