BEGIN:VCALENDAR
VERSION:2.0
PRODID:VTCPA Courses
BEGIN:VEVENT
UID:course_id_78352IMP
DTSTAMP:20260420T152057Z
DTSTART:20260724T140000Z
DTEND:20260724T160000Z
SUMMARY:Surgent's Leveraging AI for Data Analytics in Accounting
LOCATION:Webinar
DESCRIPTION:Technology
END:VEVENT
END:VCALENDAR