BEGIN:VCALENDAR
VERSION:2.0
PRODID:VTCPA Courses
BEGIN:VEVENT
UID:course_id_78353IMP
DTSTAMP:20260419T180903Z
DTSTART:20260827T180000Z
DTEND:20260827T200000Z
SUMMARY:Surgent's Leveraging AI for Data Analytics in Accounting
LOCATION:Webinar
DESCRIPTION:Technology
END:VEVENT
END:VCALENDAR