BEGIN:VCALENDAR
VERSION:2.0
PRODID:VTCPA Courses
BEGIN:VEVENT
UID:course_id_78437IMP
DTSTAMP:20260420T153443Z
DTSTART:20260724T140000Z
DTEND:20260724T160000Z
SUMMARY:Surgent's Managing Up the Ladder
LOCATION:Webinar
DESCRIPTION:Personnel/HR
END:VEVENT
END:VCALENDAR