BEGIN:VCALENDAR
VERSION:2.0
PRODID:VTCPA Courses
BEGIN:VEVENT
UID:course_id_78515IMP
DTSTAMP:20260420T184043Z
DTSTART:20260721T173000Z
DTEND:20260721T210000Z
SUMMARY:Surgent's Preparation and Compilation Engagements Under the SSARS
LOCATION:Webinar
DESCRIPTION:Auditing
END:VEVENT
END:VCALENDAR