BEGIN:VCALENDAR
VERSION:2.0
PRODID:VTCPA Courses
BEGIN:VEVENT
UID:course_id_78516IMP
DTSTAMP:20260420T054209Z
DTSTART:20260810T130000Z
DTEND:20260810T163000Z
SUMMARY:Surgent's Preparation and Compilation Engagements Under the SSARS
LOCATION:Webinar
DESCRIPTION:Auditing
END:VEVENT
END:VCALENDAR