BEGIN:VCALENDAR
VERSION:2.0
PRODID:VTCPA Courses
BEGIN:VEVENT
UID:course_id_78639IMP
DTSTAMP:20260421T081202Z
DTSTART:20260720T180000Z
DTEND:20260720T200000Z
SUMMARY:Surgent's New and Expanded Tax Benefits Associated with Section 1202 -    Qualified Small Business Stock
LOCATION:Webinar
DESCRIPTION:Taxes
END:VEVENT
END:VCALENDAR