BEGIN:VCALENDAR
VERSION:2.0
PRODID:VTCPA Courses
BEGIN:VEVENT
UID:course_id_78663IMP
DTSTAMP:20260420T140002Z
DTSTART:20260730T173000Z
DTEND:20260730T210000Z
SUMMARY:Surgent's Applying the Yellow Book to a Financial Statement Audit
LOCATION:Webinar
DESCRIPTION:Auditing (Governmental)
END:VEVENT
END:VCALENDAR