BEGIN:VCALENDAR
VERSION:2.0
PRODID:VTCPA Courses
BEGIN:VEVENT
UID:course_id_78767IMP
DTSTAMP:20260419T224225Z
DTSTART:20260820T140000Z
DTEND:20260820T160000Z
SUMMARY:Surgent's Top 20 Effective Strategies for Avoiding RMD Mistakes and       Penalties
LOCATION:Webinar
DESCRIPTION:Taxes
END:VEVENT
END:VCALENDAR