BEGIN:VCALENDAR
VERSION:2.0
PRODID:VTCPA Courses
BEGIN:VEVENT
UID:course_id_78812IMP
DTSTAMP:20260420T090650Z
DTSTART:20260805T130000Z
DTEND:20260805T210000Z
SUMMARY:Surgent's Single Auditing Made Simple
LOCATION:Webinar
DESCRIPTION:Auditing (Governmental)
END:VEVENT
END:VCALENDAR