BEGIN:VCALENDAR
VERSION:2.0
PRODID:VTCPA Courses
BEGIN:VEVENT
UID:course_id_78818IMP
DTSTAMP:20260419T224512Z
DTSTART:20260820T130000Z
DTEND:20260820T163000Z
SUMMARY:Surgent's Simply Auditing Not-for-Profits Efficiently
LOCATION:Webinar
DESCRIPTION:Auditing (Governmental)
END:VEVENT
END:VCALENDAR