BEGIN:VCALENDAR
VERSION:2.0
PRODID:VTCPA Courses
BEGIN:VEVENT
UID:course_id_78920IMP
DTSTAMP:20260420T020406Z
DTSTART:20260814T140000Z
DTEND:20260814T160000Z
SUMMARY:Surgent's System and Organization Controls (SOC) Engagements
LOCATION:Webinar
DESCRIPTION:Technology
END:VEVENT
END:VCALENDAR