BEGIN:VCALENDAR
VERSION:2.0
PRODID:VTCPA Courses
BEGIN:VEVENT
UID:course_id_78941IMP
DTSTAMP:20260420T071410Z
DTSTART:20260807T180000Z
DTEND:20260807T200000Z
SUMMARY:Surgent's Information Security and Privacy
LOCATION:Webinar
DESCRIPTION:Technology
END:VEVENT
END:VCALENDAR