BEGIN:VCALENDAR
VERSION:2.0
PRODID:VTCPA Courses
BEGIN:VEVENT
UID:course_id_78948IMP
DTSTAMP:20260420T171103Z
DTSTART:20260722T140000Z
DTEND:20260722T160000Z
SUMMARY:Surgent's Starting a Small Business: What Every Trusted Advisor and       Entrepreneur Needs To Know
LOCATION:Webinar
DESCRIPTION:Business Management
END:VEVENT
END:VCALENDAR