BEGIN:VCALENDAR
VERSION:2.0
PRODID:VTCPA Courses
BEGIN:VEVENT
UID:course_id_79061IMP
DTSTAMP:20260420T171257Z
DTSTART:20260723T130000Z
DTEND:20260723T163000Z
SUMMARY:Surgent's Essential Depreciation and Expensing Update
LOCATION:Webinar
DESCRIPTION:Taxes
END:VEVENT
END:VCALENDAR