BEGIN:VCALENDAR
VERSION:2.0
PRODID:VTCPA Courses
BEGIN:VEVENT
UID:course_id_79062IMP
DTSTAMP:20260420T071946Z
DTSTART:20260807T130000Z
DTEND:20260807T163000Z
SUMMARY:Surgent's Essential Depreciation and Expensing Update
LOCATION:Webinar
DESCRIPTION:Taxes
END:VEVENT
END:VCALENDAR