BEGIN:VCALENDAR
VERSION:2.0
PRODID:VTCPA Courses
BEGIN:VEVENT
UID:course_id_79103IMP
DTSTAMP:20260420T003259Z
DTSTART:20260818T170000Z
DTEND:20260818T190000Z
SUMMARY:Surgent's Time Management for Professionals
LOCATION:Webinar
DESCRIPTION:Personal Development
END:VEVENT
END:VCALENDAR