BEGIN:VCALENDAR
VERSION:2.0
PRODID:VTCPA Courses
BEGIN:VEVENT
UID:course_id_79144IMP
DTSTAMP:20260420T171508Z
DTSTART:20260722T170000Z
DTEND:20260722T203000Z
SUMMARY:Surgent's Advanced Trust Issues: A Roadmap for Success in An Increasingly Complex Area
LOCATION:Webinar
DESCRIPTION:Taxes
END:VEVENT
END:VCALENDAR