BEGIN:VCALENDAR
VERSION:2.0
PRODID:VTCPA Courses
BEGIN:VEVENT
UID:course_id_79145IMP
DTSTAMP:20260419T194422Z
DTSTART:20260826T170000Z
DTEND:20260826T203000Z
SUMMARY:Surgent's Advanced Trust Issues: A Roadmap for Success in An Increasingly Complex Area
LOCATION:Webinar
DESCRIPTION:Taxes
END:VEVENT
END:VCALENDAR