BEGIN:VCALENDAR
VERSION:2.0
PRODID:VTCPA Courses
BEGIN:VEVENT
UID:course_id_79157IMP
DTSTAMP:20260420T153938Z
DTSTART:20260724T140000Z
DTEND:20260724T160000Z
SUMMARY:Surgent's Data at 30,000 Feet: Traveling Smart with Client and Personal   Information
LOCATION:Webinar
DESCRIPTION:Technology
END:VEVENT
END:VCALENDAR