BEGIN:VCALENDAR
VERSION:2.0
PRODID:VTCPA Courses
BEGIN:VEVENT
UID:course_id_79171IMP
DTSTAMP:20260420T135916Z
DTSTART:20260729T170000Z
DTEND:20260729T190000Z
SUMMARY:Surgent's Top 10 Celebrity Estate Mistakes and How to Avoid Them
LOCATION:Webinar
DESCRIPTION:Taxes
END:VEVENT
END:VCALENDAR