BEGIN:VCALENDAR
VERSION:2.0
PRODID:VTCPA Courses
BEGIN:VEVENT
UID:course_id_79230IMP
DTSTAMP:20260420T122530Z
DTSTART:20260731T170000Z
DTEND:20260731T190000Z
SUMMARY:Surgent's Annual Update for Defined Contribution Plans
LOCATION:Webinar
DESCRIPTION:Accounting, Auditing
END:VEVENT
END:VCALENDAR