BEGIN:VCALENDAR
VERSION:2.0
PRODID:VTCPA Courses
BEGIN:VEVENT
UID:course_id_79240IMP
DTSTAMP:20260420T104944Z
DTSTART:20260804T170000Z
DTEND:20260804T190000Z
SUMMARY:Surgent's Understanding Non-Compete Agreements
LOCATION:Webinar
DESCRIPTION:Business Law
END:VEVENT
END:VCALENDAR