BEGIN:VCALENDAR
VERSION:2.0
PRODID:VTCPA Courses
BEGIN:VEVENT
UID:course_id_79325IMP
DTSTAMP:20260420T090650Z
DTSTART:20260805T170000Z
DTEND:20260805T190000Z
SUMMARY:Surgent's Working Remotely: Best Practices, Challenges, and Opportunities
LOCATION:Webinar
DESCRIPTION:Personnel/HR
END:VEVENT
END:VCALENDAR