BEGIN:VCALENDAR
VERSION:2.0
PRODID:VTCPA Courses
BEGIN:VEVENT
UID:course_id_79326IMP
DTSTAMP:20260420T035348Z
DTSTART:20260813T140000Z
DTEND:20260813T160000Z
SUMMARY:Surgent's Working Remotely: Best Practices, Challenges, and Opportunities
LOCATION:Webinar
DESCRIPTION:Personnel/HR
END:VEVENT
END:VCALENDAR