BEGIN:VCALENDAR
VERSION:2.0
PRODID:VTCPA Courses
BEGIN:VEVENT
UID:course_id_79327IMP
DTSTAMP:20260419T175743Z
DTSTART:20260827T180000Z
DTEND:20260827T200000Z
SUMMARY:Surgent's Working Remotely: Best Practices, Challenges, and Opportunities
LOCATION:Webinar
DESCRIPTION:Personnel/HR
END:VEVENT
END:VCALENDAR