BEGIN:VCALENDAR
VERSION:2.0
PRODID:VTCPA Courses
BEGIN:VEVENT
UID:course_id_79367IMP
DTSTAMP:20260420T054246Z
DTSTART:20260811T140000Z
DTEND:20260811T160000Z
SUMMARY:Surgent's Where To Live in Retirement
LOCATION:Webinar
DESCRIPTION:Taxes
END:VEVENT
END:VCALENDAR